BEGIN:VCALENDAR
VERSION:2.0
PRODID:-//Tabernacle Seventh-day Adventist Church - ECPv6.15.20//NONSGML v1.0//EN
CALSCALE:GREGORIAN
METHOD:PUBLISH
X-WR-CALNAME:Tabernacle Seventh-day Adventist Church
X-ORIGINAL-URL:https://tabsda.org
X-WR-CALDESC:Events for Tabernacle Seventh-day Adventist Church
REFRESH-INTERVAL;VALUE=DURATION:PT1H
X-Robots-Tag:noindex
X-PUBLISHED-TTL:PT1H
BEGIN:VTIMEZONE
TZID:America/New_York
BEGIN:DAYLIGHT
TZOFFSETFROM:-0500
TZOFFSETTO:-0400
TZNAME:EDT
DTSTART:20250309T070000
END:DAYLIGHT
BEGIN:STANDARD
TZOFFSETFROM:-0400
TZOFFSETTO:-0500
TZNAME:EST
DTSTART:20251102T060000
END:STANDARD
BEGIN:DAYLIGHT
TZOFFSETFROM:-0500
TZOFFSETTO:-0400
TZNAME:EDT
DTSTART:20260308T070000
END:DAYLIGHT
BEGIN:STANDARD
TZOFFSETFROM:-0400
TZOFFSETTO:-0500
TZNAME:EST
DTSTART:20261101T060000
END:STANDARD
BEGIN:DAYLIGHT
TZOFFSETFROM:-0500
TZOFFSETTO:-0400
TZNAME:EDT
DTSTART:20270314T070000
END:DAYLIGHT
BEGIN:STANDARD
TZOFFSETFROM:-0400
TZOFFSETTO:-0500
TZNAME:EST
DTSTART:20271107T060000
END:STANDARD
END:VTIMEZONE
BEGIN:VEVENT
DTSTART;TZID=America/New_York:20260712T103000
DTEND;TZID=America/New_York:20260712T133000
DTSTAMP:20260419T174754
CREATED:20250612T194739Z
LAST-MODIFIED:20250612T194739Z
UID:10002664-1783852200-1783863000@tabsda.org
SUMMARY:Senior's Ministry Meeting
DESCRIPTION:Join us for our monthly Senior’s Ministry Meeting—a time for fellowship\, encouragement\, and connection. Each month we gather to enjoy light refreshments\, uplifting devotionals\, and meaningful conversations with friends. Whether you’ve been part of the ministry for years or are joining for the first time\, you’ll feel welcomed and valued. Come grow spiritually\, build relationships\, and share in the joy of community. No registration required. Bring a friend!
URL:https://tabsda.org/event/seniors-ministry-meeting/2026-07-12/
LOCATION:Tab SDA\, 8017 NE 2nd Avenue\, Miami\, 33138\, United States
ATTACH;FMTTYPE=image/jpeg:https://tabsda.org/wp-content/uploads/2025/06/Picture1-1.jpg
END:VEVENT
BEGIN:VEVENT
DTSTART;TZID=America/New_York:20260713T080000
DTEND;TZID=America/New_York:20260713T160000
DTSTAMP:20260419T174754
CREATED:20260126T032127Z
LAST-MODIFIED:20260126T041318Z
UID:10003390-1783929600-1783958400@tabsda.org
SUMMARY:HOPE Summer Camp 2026
DESCRIPTION:HOPE Summer Camp is a fun\, educational\, and enrichment-filled day program hosted by the Albert C. Pierre Community Service Center that helps children grow academically\, socially\, and emotionally while enjoying their summer break. Over the course of the six-week season\, campers participate in a mix of STEM-focused learning activities\, computer classes\, creative arts\, healthy living games\, field trips\, and plenty of outdoor fun\, all designed to build confidence\, curiosity\, and readiness for the upcoming school year. \nMore than just a place to play\, HOPE Summer Camp emphasizes skill development and personal growth through structured lessons\, teamwork\, and mentorship from caring staff. With engaging curriculum and opportunities to make new friends\, the program supports each child’s development in a supportive\, community-focused environment. Families can register in advance to secure a spot for their child — offering a meaningful\, safe\, and memorable summer experience right in the heart of Miami.
URL:https://tabsda.org/event/hope-summer-camp-2026/2026-07-13/
LOCATION:Tab SDA\, 8017 NE 2nd Avenue\, Miami\, 33138\, United States
CATEGORIES:Children,Community Outreach,Youth
ATTACH;FMTTYPE=image/png:https://tabsda.org/wp-content/uploads/2026/01/New-Project.png
ORGANIZER;CN="Albert C. Pierre Community Service Center":MAILTO:info@acpcommunityservice.org
END:VEVENT
BEGIN:VEVENT
DTSTART;TZID=America/New_York:20260714T080000
DTEND;TZID=America/New_York:20260714T160000
DTSTAMP:20260419T174754
CREATED:20260126T032127Z
LAST-MODIFIED:20260126T041318Z
UID:10003391-1784016000-1784044800@tabsda.org
SUMMARY:HOPE Summer Camp 2026
DESCRIPTION:HOPE Summer Camp is a fun\, educational\, and enrichment-filled day program hosted by the Albert C. Pierre Community Service Center that helps children grow academically\, socially\, and emotionally while enjoying their summer break. Over the course of the six-week season\, campers participate in a mix of STEM-focused learning activities\, computer classes\, creative arts\, healthy living games\, field trips\, and plenty of outdoor fun\, all designed to build confidence\, curiosity\, and readiness for the upcoming school year. \nMore than just a place to play\, HOPE Summer Camp emphasizes skill development and personal growth through structured lessons\, teamwork\, and mentorship from caring staff. With engaging curriculum and opportunities to make new friends\, the program supports each child’s development in a supportive\, community-focused environment. Families can register in advance to secure a spot for their child — offering a meaningful\, safe\, and memorable summer experience right in the heart of Miami.
URL:https://tabsda.org/event/hope-summer-camp-2026/2026-07-14/
LOCATION:Tab SDA\, 8017 NE 2nd Avenue\, Miami\, 33138\, United States
CATEGORIES:Children,Community Outreach,Youth
ATTACH;FMTTYPE=image/png:https://tabsda.org/wp-content/uploads/2026/01/New-Project.png
ORGANIZER;CN="Albert C. Pierre Community Service Center":MAILTO:info@acpcommunityservice.org
END:VEVENT
BEGIN:VEVENT
DTSTART;TZID=America/New_York:20260715T080000
DTEND;TZID=America/New_York:20260715T160000
DTSTAMP:20260419T174754
CREATED:20260126T032127Z
LAST-MODIFIED:20260126T041318Z
UID:10003392-1784102400-1784131200@tabsda.org
SUMMARY:HOPE Summer Camp 2026
DESCRIPTION:HOPE Summer Camp is a fun\, educational\, and enrichment-filled day program hosted by the Albert C. Pierre Community Service Center that helps children grow academically\, socially\, and emotionally while enjoying their summer break. Over the course of the six-week season\, campers participate in a mix of STEM-focused learning activities\, computer classes\, creative arts\, healthy living games\, field trips\, and plenty of outdoor fun\, all designed to build confidence\, curiosity\, and readiness for the upcoming school year. \nMore than just a place to play\, HOPE Summer Camp emphasizes skill development and personal growth through structured lessons\, teamwork\, and mentorship from caring staff. With engaging curriculum and opportunities to make new friends\, the program supports each child’s development in a supportive\, community-focused environment. Families can register in advance to secure a spot for their child — offering a meaningful\, safe\, and memorable summer experience right in the heart of Miami.
URL:https://tabsda.org/event/hope-summer-camp-2026/2026-07-15/
LOCATION:Tab SDA\, 8017 NE 2nd Avenue\, Miami\, 33138\, United States
CATEGORIES:Children,Community Outreach,Youth
ATTACH;FMTTYPE=image/png:https://tabsda.org/wp-content/uploads/2026/01/New-Project.png
ORGANIZER;CN="Albert C. Pierre Community Service Center":MAILTO:info@acpcommunityservice.org
END:VEVENT
BEGIN:VEVENT
DTSTART;TZID=America/New_York:20260715T193000
DTEND;TZID=America/New_York:20260715T210000
DTSTAMP:20260419T174754
CREATED:20260116T183258Z
LAST-MODIFIED:20260116T183300Z
UID:10003044-1784143800-1784149200@tabsda.org
SUMMARY:Midweek Prayer Meeting
DESCRIPTION:Recharge your spirit every Wednesday evening with an hour of Praise\, Prayer\, and Powerful Testimonies.\nJoin us online for a midweek blessing—streaming live on our YouTube and Facebook pages. \nPrefer to connect directly?\nJoin the video conference using the Join button on this page\, or dial in by phone:\nConference Call: 470-869-2200\nMeeting ID: 148 833 8319#
URL:https://tabsda.org/event/midweek-prayer-meeting-2/2026-07-15/
LOCATION:Online Only
CATEGORIES:Spiritual Growth
ATTACH;FMTTYPE=image/png:https://tabsda.org/wp-content/uploads/2025/07/New-Project-1.png
END:VEVENT
BEGIN:VEVENT
DTSTART;TZID=America/New_York:20260716T080000
DTEND;TZID=America/New_York:20260716T160000
DTSTAMP:20260419T174754
CREATED:20260126T032127Z
LAST-MODIFIED:20260126T041318Z
UID:10003393-1784188800-1784217600@tabsda.org
SUMMARY:HOPE Summer Camp 2026
DESCRIPTION:HOPE Summer Camp is a fun\, educational\, and enrichment-filled day program hosted by the Albert C. Pierre Community Service Center that helps children grow academically\, socially\, and emotionally while enjoying their summer break. Over the course of the six-week season\, campers participate in a mix of STEM-focused learning activities\, computer classes\, creative arts\, healthy living games\, field trips\, and plenty of outdoor fun\, all designed to build confidence\, curiosity\, and readiness for the upcoming school year. \nMore than just a place to play\, HOPE Summer Camp emphasizes skill development and personal growth through structured lessons\, teamwork\, and mentorship from caring staff. With engaging curriculum and opportunities to make new friends\, the program supports each child’s development in a supportive\, community-focused environment. Families can register in advance to secure a spot for their child — offering a meaningful\, safe\, and memorable summer experience right in the heart of Miami.
URL:https://tabsda.org/event/hope-summer-camp-2026/2026-07-16/
LOCATION:Tab SDA\, 8017 NE 2nd Avenue\, Miami\, 33138\, United States
CATEGORIES:Children,Community Outreach,Youth
ATTACH;FMTTYPE=image/png:https://tabsda.org/wp-content/uploads/2026/01/New-Project.png
ORGANIZER;CN="Albert C. Pierre Community Service Center":MAILTO:info@acpcommunityservice.org
END:VEVENT
BEGIN:VEVENT
DTSTART;TZID=America/New_York:20260717T080000
DTEND;TZID=America/New_York:20260717T160000
DTSTAMP:20260419T174754
CREATED:20260126T032127Z
LAST-MODIFIED:20260126T041318Z
UID:10003394-1784275200-1784304000@tabsda.org
SUMMARY:HOPE Summer Camp 2026
DESCRIPTION:HOPE Summer Camp is a fun\, educational\, and enrichment-filled day program hosted by the Albert C. Pierre Community Service Center that helps children grow academically\, socially\, and emotionally while enjoying their summer break. Over the course of the six-week season\, campers participate in a mix of STEM-focused learning activities\, computer classes\, creative arts\, healthy living games\, field trips\, and plenty of outdoor fun\, all designed to build confidence\, curiosity\, and readiness for the upcoming school year. \nMore than just a place to play\, HOPE Summer Camp emphasizes skill development and personal growth through structured lessons\, teamwork\, and mentorship from caring staff. With engaging curriculum and opportunities to make new friends\, the program supports each child’s development in a supportive\, community-focused environment. Families can register in advance to secure a spot for their child — offering a meaningful\, safe\, and memorable summer experience right in the heart of Miami.
URL:https://tabsda.org/event/hope-summer-camp-2026/2026-07-17/
LOCATION:Tab SDA\, 8017 NE 2nd Avenue\, Miami\, 33138\, United States
CATEGORIES:Children,Community Outreach,Youth
ATTACH;FMTTYPE=image/png:https://tabsda.org/wp-content/uploads/2026/01/New-Project.png
ORGANIZER;CN="Albert C. Pierre Community Service Center":MAILTO:info@acpcommunityservice.org
END:VEVENT
BEGIN:VEVENT
DTSTART;TZID=America/New_York:20260718T100000
DTEND;TZID=America/New_York:20260718T124500
DTSTAMP:20260419T174754
CREATED:20250601T040812Z
LAST-MODIFIED:20260126T032557Z
UID:10003761-1784368800-1784378700@tabsda.org
SUMMARY:Vacation Bible School 2026
DESCRIPTION:Get ready for an exciting adventure in Vacation Bible School! Taking place every Sabbath from July 4 to 25 at 10:00 AM\, this dynamic program invites children to explore incredible Bible stories\, participate in fun activities\, and discover the power of God’s miracles. A suggested donation of $25 per child can be sent via Zelle to treasurer@tabsda.org (please include “VBS” in the note). Don’t miss this unforgettable\, faith-filled journey designed for children of all ages.
URL:https://tabsda.org/event/vacation-bible-school-2026/2026-07-18/
LOCATION:Tab SDA\, 8017 NE 2nd Avenue\, Miami\, 33138\, United States
CATEGORIES:Children
ATTACH;FMTTYPE=image/png:https://tabsda.org/wp-content/uploads/2025/06/New-Project-2-1.png
END:VEVENT
BEGIN:VEVENT
DTSTART;TZID=America/New_York:20260718T110000
DTEND;TZID=America/New_York:20260718T124500
DTSTAMP:20260419T174754
CREATED:20250607T173818Z
LAST-MODIFIED:20260126T035332Z
UID:10002398-1784372400-1784378700@tabsda.org
SUMMARY:Sabbath Worship Service
DESCRIPTION:The Tabernacle family is excited that you are considering joining us for worship! Learn about our church family.\n		\n							\n						\n				\nFAQ’s\n			\n			\n					\n	\n\n	\n									\n					\n																																				\n				\n										\n									WHERE ARE YOU LOCATED?							\n							\nWe located at 8017 NE 2nd Ave in Miami\, FL; just minutes away from Downtown Miami\, Port of Miami\, Miami International Airport\, Barry and Florida International Universities. See the Google map of the area below and get directions from your departing location.\n					\n\n\n\n	\n									\n					\n																																				\n				\n										\n									WHEN DOES SERVICE BEGIN?							\n							\nWorship Service begins at 11:00 AM\n					\n\n\n\n	\n									\n					\n																																				\n				\n										\n									WHAT ARE SERVICES LIKE?							\n							\nOur Worship Service is about an hour and 30 minutes and has a time of powerful praise and worship\, Bible-based preaching\, fellowship and giving.\n					\n\n\n\n	\n									\n					\n																																				\n				\n										\n									WHAT ABOUT MY KIDS?							\n							\nWe love kids at Tabernacle and offer age-appropriate environments where your kids and teenagers will learn about Jesus and the Bible on their level. We have excellent\, well-trained children and youth workers who have passed all the necessary background requirements.\n					\n\n\n\n\n	\n									\n					\n																																				\n				\n										\n									HOW DOES THE MUSIC SOUND?							\n							\nOur vibrant worship team blends gospel\, hymns\, and contemporary styles\, inspiring heartfelt worship and guiding our church closer to God.\n					\n\n\n\n	\n									\n					\n																																				\n				\n										\n									WHAT SHOULD I WEAR?							\n							\nWhile many choose to dress up\, we embrace a “come as you are” approach\, ensuring comfort in any attire.\n					\n\n\n\n	\n									\n					\n																																				\n				\n										\n									WHO WILL HELP ME?							\n							\nVisiting a new church can feel daunting\, but our welcoming team will ensure your family feels guided\, supported\, and comfortable.\n					\n\n\n\n	\n									\n					\n																																				\n				\n										\n									WHAT ELSE CAN I EXPECT?							\n							\nWe serve breakfast every third Saturday at 9:00 AM\, and lunch every second and fourth Saturday following our Worship Service.
URL:https://tabsda.org/event/sabbath-worship-service-3/2026-07-18/
LOCATION:Tab SDA\, 8017 NE 2nd Avenue\, Miami\, 33138\, United States
CATEGORIES:Church Fellowship,Family,Spiritual Growth
ATTACH;FMTTYPE=image/png:https://tabsda.org/wp-content/uploads/2025/06/Stream-Thumbnail.png
END:VEVENT
BEGIN:VEVENT
DTSTART;TZID=America/New_York:20260718T161500
DTEND;TZID=America/New_York:20260718T173000
DTSTAMP:20260419T174754
CREATED:20250725T170853Z
LAST-MODIFIED:20260209T035559Z
UID:10003929-1784391300-1784395800@tabsda.org
SUMMARY:Weekly Bible Study
DESCRIPTION:Hungry for a deeper understanding of God’s Word? Join us for a meaningful Bible study every Sabbath afternoon at 3:00 PM. We meet virtually via RingCentral each week\, and in person in the Youth Chapel only on Sabbaths when lunch is provided. This is a great opportunity to explore Scripture more deeply and grow in your faith. Tap the “Join” button on this site to attend virtually. \nNote: If you don’t have the RingCentral app\, you may need to download it first.
URL:https://tabsda.org/event/bible-study/2026-07-18/
LOCATION:Tab SDA\, 8017 NE 2nd Avenue\, Miami\, 33138\, United States
CATEGORIES:Spiritual Growth
ATTACH;FMTTYPE=image/png:https://tabsda.org/wp-content/uploads/2025/07/New-Project.png
END:VEVENT
END:VCALENDAR