BEGIN:VCALENDAR
VERSION:2.0
PRODID:-//Tabernacle Seventh-day Adventist Church - ECPv6.15.20//NONSGML v1.0//EN
CALSCALE:GREGORIAN
METHOD:PUBLISH
X-ORIGINAL-URL:https://tabsda.org
X-WR-CALDESC:Events for Tabernacle Seventh-day Adventist Church
REFRESH-INTERVAL;VALUE=DURATION:PT1H
X-Robots-Tag:noindex
X-PUBLISHED-TTL:PT1H
BEGIN:VTIMEZONE
TZID:America/New_York
BEGIN:DAYLIGHT
TZOFFSETFROM:-0500
TZOFFSETTO:-0400
TZNAME:EDT
DTSTART:20240310T070000
END:DAYLIGHT
BEGIN:STANDARD
TZOFFSETFROM:-0400
TZOFFSETTO:-0500
TZNAME:EST
DTSTART:20241103T060000
END:STANDARD
BEGIN:DAYLIGHT
TZOFFSETFROM:-0500
TZOFFSETTO:-0400
TZNAME:EDT
DTSTART:20250309T070000
END:DAYLIGHT
BEGIN:STANDARD
TZOFFSETFROM:-0400
TZOFFSETTO:-0500
TZNAME:EST
DTSTART:20251102T060000
END:STANDARD
BEGIN:DAYLIGHT
TZOFFSETFROM:-0500
TZOFFSETTO:-0400
TZNAME:EDT
DTSTART:20260308T070000
END:DAYLIGHT
BEGIN:STANDARD
TZOFFSETFROM:-0400
TZOFFSETTO:-0500
TZNAME:EST
DTSTART:20261101T060000
END:STANDARD
END:VTIMEZONE
BEGIN:VEVENT
DTSTART;TZID=America/New_York:20251207T193000
DTEND;TZID=America/New_York:20251207T210000
DTSTAMP:20260420T034132
CREATED:20251109T030002Z
LAST-MODIFIED:20251111T005258Z
UID:10003315-1765135800-1765141200@tabsda.org
SUMMARY:40 Days of Prayer
DESCRIPTION:Join us for 40 Days of Prayer\, held virtually each night at 7:30 PM—and on Saturdays at 6:00 PM—from November 8 to December 17. This special season of prayer is a time for spiritual renewal\, reflection\, and unity as we seek God’s guidance together. Led by Pastor Garth Dottin\, each evening will include prayer\, devotion\, and encouragement to strengthen your walk of faith. All are welcome to be part of this powerful nightly experience of prayer and fellowship.\nJOIN VIA RINGCENTRAL     JOIN VIA PHONE CALL\nYou can use the provided buttons to join online via RingCentral or dial in by phone.\n  \n \n 
URL:https://tabsda.org/event/40-days-of-prayer/2025-12-07/
LOCATION:Online Only
CATEGORIES:Spiritual Growth
ATTACH;FMTTYPE=image/jpeg:https://tabsda.org/wp-content/uploads/2025/01/How-to-start-a-Bible-Study.jpg
END:VEVENT
BEGIN:VEVENT
DTSTART;TZID=America/New_York:20251208T193000
DTEND;TZID=America/New_York:20251208T210000
DTSTAMP:20260420T034132
CREATED:20251109T030002Z
LAST-MODIFIED:20251111T005258Z
UID:10003316-1765222200-1765227600@tabsda.org
SUMMARY:40 Days of Prayer
DESCRIPTION:Join us for 40 Days of Prayer\, held virtually each night at 7:30 PM—and on Saturdays at 6:00 PM—from November 8 to December 17. This special season of prayer is a time for spiritual renewal\, reflection\, and unity as we seek God’s guidance together. Led by Pastor Garth Dottin\, each evening will include prayer\, devotion\, and encouragement to strengthen your walk of faith. All are welcome to be part of this powerful nightly experience of prayer and fellowship.\nJOIN VIA RINGCENTRAL     JOIN VIA PHONE CALL\nYou can use the provided buttons to join online via RingCentral or dial in by phone.\n  \n \n 
URL:https://tabsda.org/event/40-days-of-prayer/2025-12-08/
LOCATION:Online Only
CATEGORIES:Spiritual Growth
ATTACH;FMTTYPE=image/jpeg:https://tabsda.org/wp-content/uploads/2025/01/How-to-start-a-Bible-Study.jpg
END:VEVENT
BEGIN:VEVENT
DTSTART;TZID=America/New_York:20251209T193000
DTEND;TZID=America/New_York:20251209T210000
DTSTAMP:20260420T034132
CREATED:20251109T030002Z
LAST-MODIFIED:20251111T005258Z
UID:10003317-1765308600-1765314000@tabsda.org
SUMMARY:40 Days of Prayer
DESCRIPTION:Join us for 40 Days of Prayer\, held virtually each night at 7:30 PM—and on Saturdays at 6:00 PM—from November 8 to December 17. This special season of prayer is a time for spiritual renewal\, reflection\, and unity as we seek God’s guidance together. Led by Pastor Garth Dottin\, each evening will include prayer\, devotion\, and encouragement to strengthen your walk of faith. All are welcome to be part of this powerful nightly experience of prayer and fellowship.\nJOIN VIA RINGCENTRAL     JOIN VIA PHONE CALL\nYou can use the provided buttons to join online via RingCentral or dial in by phone.\n  \n \n 
URL:https://tabsda.org/event/40-days-of-prayer/2025-12-09/
LOCATION:Online Only
CATEGORIES:Spiritual Growth
ATTACH;FMTTYPE=image/jpeg:https://tabsda.org/wp-content/uploads/2025/01/How-to-start-a-Bible-Study.jpg
END:VEVENT
BEGIN:VEVENT
DTSTART;TZID=America/New_York:20251210T193000
DTEND;TZID=America/New_York:20251210T210000
DTSTAMP:20260420T034132
CREATED:20250725T202231Z
LAST-MODIFIED:20250725T210426Z
UID:10003013-1765395000-1765400400@tabsda.org
SUMMARY:Midweek Prayer Meeting
DESCRIPTION:Recharge your spirit every Wednesday evening with an hour of Praise\, Prayer\, and Powerful Testimonies.\nJoin us online for a midweek blessing—streaming live on our YouTube and Facebook pages. \nPrefer to connect directly?\nJoin the video conference using the Join button on this page\, or dial in by phone:\nConference Call: 470-869-2200\nMeeting ID: 148 833 8319#
URL:https://tabsda.org/event/midweek-prayer-meeting/2025-12-10/
LOCATION:Online Only
CATEGORIES:Spiritual Growth
ATTACH;FMTTYPE=image/png:https://tabsda.org/wp-content/uploads/2025/07/New-Project-1.png
END:VEVENT
BEGIN:VEVENT
DTSTART;TZID=America/New_York:20251210T193000
DTEND;TZID=America/New_York:20251210T210000
DTSTAMP:20260420T034132
CREATED:20251109T030002Z
LAST-MODIFIED:20251111T005258Z
UID:10003318-1765395000-1765400400@tabsda.org
SUMMARY:40 Days of Prayer
DESCRIPTION:Join us for 40 Days of Prayer\, held virtually each night at 7:30 PM—and on Saturdays at 6:00 PM—from November 8 to December 17. This special season of prayer is a time for spiritual renewal\, reflection\, and unity as we seek God’s guidance together. Led by Pastor Garth Dottin\, each evening will include prayer\, devotion\, and encouragement to strengthen your walk of faith. All are welcome to be part of this powerful nightly experience of prayer and fellowship.\nJOIN VIA RINGCENTRAL     JOIN VIA PHONE CALL\nYou can use the provided buttons to join online via RingCentral or dial in by phone.\n  \n \n 
URL:https://tabsda.org/event/40-days-of-prayer/2025-12-10/
LOCATION:Online Only
CATEGORIES:Spiritual Growth
ATTACH;FMTTYPE=image/jpeg:https://tabsda.org/wp-content/uploads/2025/01/How-to-start-a-Bible-Study.jpg
END:VEVENT
BEGIN:VEVENT
DTSTART;TZID=America/New_York:20251211T193000
DTEND;TZID=America/New_York:20251211T210000
DTSTAMP:20260420T034132
CREATED:20251109T030002Z
LAST-MODIFIED:20251111T005258Z
UID:10003319-1765481400-1765486800@tabsda.org
SUMMARY:40 Days of Prayer
DESCRIPTION:Join us for 40 Days of Prayer\, held virtually each night at 7:30 PM—and on Saturdays at 6:00 PM—from November 8 to December 17. This special season of prayer is a time for spiritual renewal\, reflection\, and unity as we seek God’s guidance together. Led by Pastor Garth Dottin\, each evening will include prayer\, devotion\, and encouragement to strengthen your walk of faith. All are welcome to be part of this powerful nightly experience of prayer and fellowship.\nJOIN VIA RINGCENTRAL     JOIN VIA PHONE CALL\nYou can use the provided buttons to join online via RingCentral or dial in by phone.\n  \n \n 
URL:https://tabsda.org/event/40-days-of-prayer/2025-12-11/
LOCATION:Online Only
CATEGORIES:Spiritual Growth
ATTACH;FMTTYPE=image/jpeg:https://tabsda.org/wp-content/uploads/2025/01/How-to-start-a-Bible-Study.jpg
END:VEVENT
BEGIN:VEVENT
DTSTART;TZID=America/New_York:20251212T193000
DTEND;TZID=America/New_York:20251212T210000
DTSTAMP:20260420T034132
CREATED:20251109T030002Z
LAST-MODIFIED:20251111T005258Z
UID:10003320-1765567800-1765573200@tabsda.org
SUMMARY:40 Days of Prayer
DESCRIPTION:Join us for 40 Days of Prayer\, held virtually each night at 7:30 PM—and on Saturdays at 6:00 PM—from November 8 to December 17. This special season of prayer is a time for spiritual renewal\, reflection\, and unity as we seek God’s guidance together. Led by Pastor Garth Dottin\, each evening will include prayer\, devotion\, and encouragement to strengthen your walk of faith. All are welcome to be part of this powerful nightly experience of prayer and fellowship.\nJOIN VIA RINGCENTRAL     JOIN VIA PHONE CALL\nYou can use the provided buttons to join online via RingCentral or dial in by phone.\n  \n \n 
URL:https://tabsda.org/event/40-days-of-prayer/2025-12-12/
LOCATION:Online Only
CATEGORIES:Spiritual Growth
ATTACH;FMTTYPE=image/jpeg:https://tabsda.org/wp-content/uploads/2025/01/How-to-start-a-Bible-Study.jpg
END:VEVENT
BEGIN:VEVENT
DTSTART;TZID=America/New_York:20251213T110000
DTEND;TZID=America/New_York:20251213T123000
DTSTAMP:20260420T034132
CREATED:20250608T173342Z
LAST-MODIFIED:20250608T173342Z
UID:10000953-1765623600-1765629000@tabsda.org
SUMMARY:Tab Town Children's Church
DESCRIPTION:Open to all children ages 2-12\, Tab Town Children’s Church is a vibrant and engaging space where kids deepen their understanding of Jesus while building lasting friendships. Through interactive lessons\, exciting activities\, and creative experiences\, children grow in faith and community in a fun\, nurturing and safe environment.
URL:https://tabsda.org/event/tab-town-childrens-church-2/2025-12-13/
LOCATION:Tab SDA\, 8017 NE 2nd Avenue\, Miami\, 33138\, United States
ATTACH;FMTTYPE=image/jpeg:https://tabsda.org/wp-content/uploads/2025/01/20170513_120654_HDR.jpg
END:VEVENT
BEGIN:VEVENT
DTSTART;TZID=America/New_York:20251213T110000
DTEND;TZID=America/New_York:20251213T124500
DTSTAMP:20260420T034132
CREATED:20250607T173818Z
LAST-MODIFIED:20260126T035332Z
UID:10002367-1765623600-1765629900@tabsda.org
SUMMARY:Sabbath Worship Service
DESCRIPTION:The Tabernacle family is excited that you are considering joining us for worship! Learn about our church family.\n		\n							\n						\n				\nFAQ’s\n			\n			\n					\n	\n\n	\n									\n					\n																																				\n				\n										\n									WHERE ARE YOU LOCATED?							\n							\nWe located at 8017 NE 2nd Ave in Miami\, FL; just minutes away from Downtown Miami\, Port of Miami\, Miami International Airport\, Barry and Florida International Universities. See the Google map of the area below and get directions from your departing location.\n					\n\n\n\n	\n									\n					\n																																				\n				\n										\n									WHEN DOES SERVICE BEGIN?							\n							\nWorship Service begins at 11:00 AM\n					\n\n\n\n	\n									\n					\n																																				\n				\n										\n									WHAT ARE SERVICES LIKE?							\n							\nOur Worship Service is about an hour and 30 minutes and has a time of powerful praise and worship\, Bible-based preaching\, fellowship and giving.\n					\n\n\n\n	\n									\n					\n																																				\n				\n										\n									WHAT ABOUT MY KIDS?							\n							\nWe love kids at Tabernacle and offer age-appropriate environments where your kids and teenagers will learn about Jesus and the Bible on their level. We have excellent\, well-trained children and youth workers who have passed all the necessary background requirements.\n					\n\n\n\n\n	\n									\n					\n																																				\n				\n										\n									HOW DOES THE MUSIC SOUND?							\n							\nOur vibrant worship team blends gospel\, hymns\, and contemporary styles\, inspiring heartfelt worship and guiding our church closer to God.\n					\n\n\n\n	\n									\n					\n																																				\n				\n										\n									WHAT SHOULD I WEAR?							\n							\nWhile many choose to dress up\, we embrace a “come as you are” approach\, ensuring comfort in any attire.\n					\n\n\n\n	\n									\n					\n																																				\n				\n										\n									WHO WILL HELP ME?							\n							\nVisiting a new church can feel daunting\, but our welcoming team will ensure your family feels guided\, supported\, and comfortable.\n					\n\n\n\n	\n									\n					\n																																				\n				\n										\n									WHAT ELSE CAN I EXPECT?							\n							\nWe serve breakfast every third Saturday at 9:00 AM\, and lunch every second and fourth Saturday following our Worship Service.
URL:https://tabsda.org/event/sabbath-worship-service-3/2025-12-13/
LOCATION:Tab SDA\, 8017 NE 2nd Avenue\, Miami\, 33138\, United States
CATEGORIES:Church Fellowship,Family,Spiritual Growth
ATTACH;FMTTYPE=image/png:https://tabsda.org/wp-content/uploads/2025/06/Stream-Thumbnail.png
END:VEVENT
BEGIN:VEVENT
DTSTART;TZID=America/New_York:20251213T161500
DTEND;TZID=America/New_York:20251213T173000
DTSTAMP:20260420T034132
CREATED:20250725T170853Z
LAST-MODIFIED:20260209T035559Z
UID:10003898-1765642500-1765647000@tabsda.org
SUMMARY:Weekly Bible Study
DESCRIPTION:Hungry for a deeper understanding of God’s Word? Join us for a meaningful Bible study every Sabbath afternoon at 3:00 PM. We meet virtually via RingCentral each week\, and in person in the Youth Chapel only on Sabbaths when lunch is provided. This is a great opportunity to explore Scripture more deeply and grow in your faith. Tap the “Join” button on this site to attend virtually. \nNote: If you don’t have the RingCentral app\, you may need to download it first.
URL:https://tabsda.org/event/bible-study/2025-12-13/
LOCATION:Tab SDA\, 8017 NE 2nd Avenue\, Miami\, 33138\, United States
CATEGORIES:Spiritual Growth
ATTACH;FMTTYPE=image/png:https://tabsda.org/wp-content/uploads/2025/07/New-Project.png
END:VEVENT
BEGIN:VEVENT
DTSTART;TZID=America/New_York:20251213T193000
DTEND;TZID=America/New_York:20251213T210000
DTSTAMP:20260420T034132
CREATED:20251109T030002Z
LAST-MODIFIED:20251111T005258Z
UID:10003321-1765654200-1765659600@tabsda.org
SUMMARY:40 Days of Prayer
DESCRIPTION:Join us for 40 Days of Prayer\, held virtually each night at 7:30 PM—and on Saturdays at 6:00 PM—from November 8 to December 17. This special season of prayer is a time for spiritual renewal\, reflection\, and unity as we seek God’s guidance together. Led by Pastor Garth Dottin\, each evening will include prayer\, devotion\, and encouragement to strengthen your walk of faith. All are welcome to be part of this powerful nightly experience of prayer and fellowship.\nJOIN VIA RINGCENTRAL     JOIN VIA PHONE CALL\nYou can use the provided buttons to join online via RingCentral or dial in by phone.\n  \n \n 
URL:https://tabsda.org/event/40-days-of-prayer/2025-12-13/
LOCATION:Online Only
CATEGORIES:Spiritual Growth
ATTACH;FMTTYPE=image/jpeg:https://tabsda.org/wp-content/uploads/2025/01/How-to-start-a-Bible-Study.jpg
END:VEVENT
END:VCALENDAR