BEGIN:VCALENDAR
VERSION:2.0
PRODID:-//Tabernacle Seventh-day Adventist Church - ECPv6.15.20//NONSGML v1.0//EN
CALSCALE:GREGORIAN
METHOD:PUBLISH
X-ORIGINAL-URL:https://tabsda.org
X-WR-CALDESC:Events for Tabernacle Seventh-day Adventist Church
REFRESH-INTERVAL;VALUE=DURATION:PT1H
X-Robots-Tag:noindex
X-PUBLISHED-TTL:PT1H
BEGIN:VTIMEZONE
TZID:America/New_York
BEGIN:DAYLIGHT
TZOFFSETFROM:-0500
TZOFFSETTO:-0400
TZNAME:EDT
DTSTART:20240310T070000
END:DAYLIGHT
BEGIN:STANDARD
TZOFFSETFROM:-0400
TZOFFSETTO:-0500
TZNAME:EST
DTSTART:20241103T060000
END:STANDARD
BEGIN:DAYLIGHT
TZOFFSETFROM:-0500
TZOFFSETTO:-0400
TZNAME:EDT
DTSTART:20250309T070000
END:DAYLIGHT
BEGIN:STANDARD
TZOFFSETFROM:-0400
TZOFFSETTO:-0500
TZNAME:EST
DTSTART:20251102T060000
END:STANDARD
BEGIN:DAYLIGHT
TZOFFSETFROM:-0500
TZOFFSETTO:-0400
TZNAME:EDT
DTSTART:20260308T070000
END:DAYLIGHT
BEGIN:STANDARD
TZOFFSETFROM:-0400
TZOFFSETTO:-0500
TZNAME:EST
DTSTART:20261101T060000
END:STANDARD
END:VTIMEZONE
BEGIN:VEVENT
DTSTART;TZID=America/New_York:20250308T110000
DTEND;TZID=America/New_York:20250308T123000
DTSTAMP:20260419T191958
CREATED:20250209T104644Z
LAST-MODIFIED:20250617T210347Z
UID:10000944-1741431600-1741437000@tabsda.org
SUMMARY:Tab Town Children's Church
DESCRIPTION:Open to all children ages 2-12\, Tab Town Children’s Church is a vibrant and engaging space where kids deepen their understanding of Jesus while building lasting friendships. Through interactive lessons\, exciting activities\, and creative experiences\, children grow in faith and community in a fun\, nurturing and safe environment.
URL:https://tabsda.org/event/tab-town-childrens-church/2025-03-08/
LOCATION:Tab SDA\, 8017 NE 2nd Avenue\, Miami\, 33138\, United States
ATTACH;FMTTYPE=image/jpeg:https://tabsda.org/wp-content/uploads/2025/01/20170513_120654_HDR.jpg
END:VEVENT
END:VCALENDAR