BEGIN:VCALENDAR
VERSION:2.0
PRODID:-//Tabernacle Seventh-day Adventist Church - ECPv6.15.20//NONSGML v1.0//EN
CALSCALE:GREGORIAN
METHOD:PUBLISH
X-WR-CALNAME:Tabernacle Seventh-day Adventist Church
X-ORIGINAL-URL:https://tabsda.org
X-WR-CALDESC:Events for Tabernacle Seventh-day Adventist Church
REFRESH-INTERVAL;VALUE=DURATION:PT1H
X-Robots-Tag:noindex
X-PUBLISHED-TTL:PT1H
BEGIN:VTIMEZONE
TZID:America/New_York
BEGIN:DAYLIGHT
TZOFFSETFROM:-0500
TZOFFSETTO:-0400
TZNAME:EDT
DTSTART:20250309T070000
END:DAYLIGHT
BEGIN:STANDARD
TZOFFSETFROM:-0400
TZOFFSETTO:-0500
TZNAME:EST
DTSTART:20251102T060000
END:STANDARD
BEGIN:DAYLIGHT
TZOFFSETFROM:-0500
TZOFFSETTO:-0400
TZNAME:EDT
DTSTART:20260308T070000
END:DAYLIGHT
BEGIN:STANDARD
TZOFFSETFROM:-0400
TZOFFSETTO:-0500
TZNAME:EST
DTSTART:20261101T060000
END:STANDARD
BEGIN:DAYLIGHT
TZOFFSETFROM:-0500
TZOFFSETTO:-0400
TZNAME:EDT
DTSTART:20270314T070000
END:DAYLIGHT
BEGIN:STANDARD
TZOFFSETFROM:-0400
TZOFFSETTO:-0500
TZNAME:EST
DTSTART:20271107T060000
END:STANDARD
END:VTIMEZONE
BEGIN:VEVENT
DTSTART;TZID=America/New_York:20261016T190000
DTEND;TZID=America/New_York:20261018T130000
DTSTAMP:20260419T212432
CREATED:20260126T042201Z
LAST-MODIFIED:20260126T042201Z
UID:10003846-1792177200-1792328400@tabsda.org
SUMMARY:Albert C. Pierre Community Service Weekend
DESCRIPTION:Join us at Tabernacle for Albert C. Pierre Community Services Day\, a weekend dedicated to serving our community and sharing Christ’s love. The event highlights the work of Adventist Community Services in meeting the physical\, emotional\, and spiritual needs of those around us. \nThe weekend begins Friday\, October 16 at 7:00 PM with an opening program\, continues Sabbath\, October 18 at 11:00 AM with worship and fellowship over lunch\, includes an evening program\, and concludes with a special Sunday event. Come be part of meaningful outreach and community connection.
URL:https://tabsda.org/event/albert-c-pierre-community-service-weekend/
LOCATION:Tab SDA\, 8017 NE 2nd Avenue\, Miami\, 33138\, United States
CATEGORIES:Community Outreach
ATTACH;FMTTYPE=image/jpeg:https://tabsda.org/wp-content/uploads/2022/11/P1640068-scaled.jpg
ORGANIZER;CN="Albert C. Pierre Community Service Center":MAILTO:info@acpcommunityservice.org
END:VEVENT
BEGIN:VEVENT
DTSTART;TZID=America/New_York:20261017T161500
DTEND;TZID=America/New_York:20261017T173000
DTSTAMP:20260419T212432
CREATED:20250725T170853Z
LAST-MODIFIED:20260209T035559Z
UID:10003942-1792253700-1792258200@tabsda.org
SUMMARY:Weekly Bible Study
DESCRIPTION:Hungry for a deeper understanding of God’s Word? Join us for a meaningful Bible study every Sabbath afternoon at 3:00 PM. We meet virtually via RingCentral each week\, and in person in the Youth Chapel only on Sabbaths when lunch is provided. This is a great opportunity to explore Scripture more deeply and grow in your faith. Tap the “Join” button on this site to attend virtually. \nNote: If you don’t have the RingCentral app\, you may need to download it first.
URL:https://tabsda.org/event/bible-study/2026-10-17/
LOCATION:Tab SDA\, 8017 NE 2nd Avenue\, Miami\, 33138\, United States
CATEGORIES:Spiritual Growth
ATTACH;FMTTYPE=image/png:https://tabsda.org/wp-content/uploads/2025/07/New-Project.png
END:VEVENT
BEGIN:VEVENT
DTSTART;TZID=America/New_York:20261021T193000
DTEND;TZID=America/New_York:20261021T210000
DTSTAMP:20260419T212432
CREATED:20260116T183258Z
LAST-MODIFIED:20260116T183300Z
UID:10003058-1792611000-1792616400@tabsda.org
SUMMARY:Midweek Prayer Meeting
DESCRIPTION:Recharge your spirit every Wednesday evening with an hour of Praise\, Prayer\, and Powerful Testimonies.\nJoin us online for a midweek blessing—streaming live on our YouTube and Facebook pages. \nPrefer to connect directly?\nJoin the video conference using the Join button on this page\, or dial in by phone:\nConference Call: 470-869-2200\nMeeting ID: 148 833 8319#
URL:https://tabsda.org/event/midweek-prayer-meeting-2/2026-10-21/
LOCATION:Online Only
CATEGORIES:Spiritual Growth
ATTACH;FMTTYPE=image/png:https://tabsda.org/wp-content/uploads/2025/07/New-Project-1.png
END:VEVENT
BEGIN:VEVENT
DTSTART;TZID=America/New_York:20261024T110000
DTEND;TZID=America/New_York:20261026T124500
DTSTAMP:20260419T212432
CREATED:20250606T205148Z
LAST-MODIFIED:20260126T041757Z
UID:10002604-1792839600-1793018700@tabsda.org
SUMMARY:MUAA Day Worship Service
DESCRIPTION:Join us for a special celebration honoring Miami Union Academy and its students\, staff\, families\, and alumni. This meaningful day highlights the partnership between the school and the church while celebrating Christian education and the impact it has on young lives. \nWith student participation\, special music\, and moments of recognition that showcase the gifts and talents of the MUAA community\, all are welcome as we come together in support\, gratitude\, and prayer for Miami Union Academy and its continued mission.
URL:https://tabsda.org/event/muaa-day-worship-service/
LOCATION:Tab SDA\, 8017 NE 2nd Avenue\, Miami\, 33138\, United States
CATEGORIES:Church Fellowship,Family,Spiritual Growth
ATTACH;FMTTYPE=image/png:https://tabsda.org/wp-content/uploads/2025/06/New-Project-3-1.png
ORGANIZER;CN="Miami Union Adventist Academy":MAILTO:info@muasda.org
END:VEVENT
BEGIN:VEVENT
DTSTART;TZID=America/New_York:20261031T110000
DTEND;TZID=America/New_York:20261031T124500
DTSTAMP:20260419T212432
CREATED:20260221T031819Z
LAST-MODIFIED:20260221T031821Z
UID:10003835-1793444400-1793450700@tabsda.org
SUMMARY:Youth Sabbath
DESCRIPTION:The Tabernacle family is excited that you are considering joining us for worship! Learn about our church family.\n		\n							\n						\n				\nFAQ’s\n			\n			\n					\n	\n\n	\n									\n					\n																																				\n				\n										\n									WHERE ARE YOU LOCATED?							\n							\nWe located at 8017 NE 2nd Ave in Miami\, FL; just minutes away from Downtown Miami\, Port of Miami\, Miami International Airport\, Barry and Florida International Universities. See the Google map of the area below and get directions from your departing location.\n					\n\n\n\n	\n									\n					\n																																				\n				\n										\n									WHEN DOES SERVICE BEGIN?							\n							\nWorship Service begins at 11:00 AM\n					\n\n\n\n	\n									\n					\n																																				\n				\n										\n									WHAT ARE SERVICES LIKE?							\n							\nOur Worship Service is about 90 minutes and has a time of powerful praise and worship\, Bible-based preaching\, fellowship and giving.\n					\n\n\n\n	\n									\n					\n																																				\n				\n										\n									WHAT ABOUT MY KIDS?							\n							\nWe love kids at Tabernacle and offer age-appropriate environments where your kids and teenagers will learn about Jesus and the Bible on their level. We have excellent\, well-trained children and youth workers who have passed all the necessary background requirements.\n					\n\n\n\n\n	\n									\n					\n																																				\n				\n										\n									HOW DOES THE MUSIC SOUND?							\n							\nOur vibrant worship team blends gospel\, hymns\, and contemporary styles\, inspiring heartfelt worship and guiding our church closer to God.\n					\n\n\n\n	\n									\n					\n																																				\n				\n										\n									WHAT SHOULD I WEAR?							\n							\nWhile many choose to dress up\, we embrace a “come as you are” approach\, ensuring comfort in any attire.\n					\n\n\n\n	\n									\n					\n																																				\n				\n										\n									WHO WILL HELP ME?							\n							\nVisiting a new church can feel daunting\, but our welcoming team will ensure your family feels guided\, supported\, and comfortable.\n					\n\n\n\n	\n									\n					\n																																				\n				\n										\n									WHAT ELSE CAN I EXPECT?							\n							\nWe serve breakfast every fourth Saturday at 9:00 AM\, and lunch every second and third Saturday following our Worship Service.
URL:https://tabsda.org/event/youth-sabbath-3-2/2026-10-31/
LOCATION:Tab SDA\, 8017 NE 2nd Avenue\, Miami\, 33138\, United States
CATEGORIES:Church Fellowship,Spiritual Growth,Youth
ATTACH;FMTTYPE=image/jpeg:https://tabsda.org/wp-content/uploads/2025/01/20231203_145510.jpg
END:VEVENT
BEGIN:VEVENT
DTSTART;TZID=America/New_York:20261106T193000
DTEND;TZID=America/New_York:20261107T210000
DTSTAMP:20260419T212432
CREATED:20250606T212740Z
LAST-MODIFIED:20260126T034628Z
UID:10002611-1793993400-1794085200@tabsda.org
SUMMARY:Homecoming Weekend 2026
DESCRIPTION:Join us for a special celebration as we mark 49 years of faith and fellowship during our Homecoming Weekend! This two-day event will highlight our church’s rich history\, and the joy of reconnecting with members past and present. From powerful worship to honest conversations\, from heritage celebrations to safe spaces for healing – this is a time to come together\, reconnect and return home. There is a seat waiting for you\, everyone is welcome—let’s celebrate together!\n\n\nThe Tabernacle family is excited that you are considering joining us for worship! Learn about our church family.\n		\n							\n						\n				\nFAQ’s\n			\n			\n					\n	\n\n	\n									\n					\n																																				\n				\n										\n									WHERE ARE YOU LOCATED?							\n							\nWe located at 8017 NE 2nd Ave in Miami\, FL; just minutes away from Downtown Miami\, Port of Miami\, Miami International Airport\, Barry and Florida International Universities. See the Google map of the area below and get directions from your departing location.\n\n					\n\n\n\n	\n									\n					\n																																				\n				\n										\n									WHEN DOES SERVICE BEGIN?							\n							\nWorship Service begins at 11:00 AM\n\n					\n\n\n\n	\n									\n					\n																																				\n				\n										\n									WHAT ARE SERVICES LIKE?							\n							\nOur Worship Service is about 90 minutes and has a time of powerful praise and worship\, Bible-based preaching\, fellowship and giving.\n\n					\n\n\n\n	\n									\n					\n																																				\n				\n										\n									WHAT ABOUT MY KIDS?							\n							\nWe love kids at Tabernacle and offer age-appropriate environments where your kids and teenagers will learn about Jesus and the Bible on their level. We have excellent\, well-trained children and youth workers who have passed all the necessary background requirements.\n\n					\n\n\n\n\n	\n									\n					\n																																				\n				\n										\n									HOW DOES THE MUSIC SOUND?							\n							\nOur vibrant worship team blends gospel\, hymns\, and contemporary styles\, inspiring heartfelt worship and guiding our church closer to God.\n\n					\n\n\n\n	\n									\n					\n																																				\n				\n										\n									WHAT SHOULD I WEAR?							\n							\nWhile many choose to dress up\, we embrace a “come as you are” approach\, ensuring comfort in any attire.\n\n					\n\n\n\n	\n									\n					\n																																				\n				\n										\n									WHO WILL HELP ME?							\n							\nVisiting a new church can feel daunting\, but our welcoming team will ensure your family feels guided\, supported\, and comfortable.\n\n					\n\n\n\n	\n									\n					\n																																				\n				\n										\n									WHAT ELSE CAN I EXPECT?							\n							\nWe serve breakfast every fourth Saturday at 9:00 AM\, and lunch every second and third Saturday following our Worship Service.
URL:https://tabsda.org/event/homecoming-weekend-2026/
LOCATION:Tab SDA\, 8017 NE 2nd Avenue\, Miami\, 33138\, United States
CATEGORIES:AYM,Church Fellowship,Family,Spiritual Growth
ATTACH;FMTTYPE=image/png:https://tabsda.org/wp-content/uploads/2025/06/New-Project-2-2.png
END:VEVENT
BEGIN:VEVENT
DTSTART;TZID=America/New_York:20261107T110000
DTEND;TZID=America/New_York:20261107T124500
DTSTAMP:20260419T212432
CREATED:20250607T173818Z
LAST-MODIFIED:20260126T035332Z
UID:10002414-1794049200-1794055500@tabsda.org
SUMMARY:Sabbath Worship Service
DESCRIPTION:The Tabernacle family is excited that you are considering joining us for worship! Learn about our church family.\n		\n							\n						\n				\nFAQ’s\n			\n			\n					\n	\n\n	\n									\n					\n																																				\n				\n										\n									WHERE ARE YOU LOCATED?							\n							\nWe located at 8017 NE 2nd Ave in Miami\, FL; just minutes away from Downtown Miami\, Port of Miami\, Miami International Airport\, Barry and Florida International Universities. See the Google map of the area below and get directions from your departing location.\n					\n\n\n\n	\n									\n					\n																																				\n				\n										\n									WHEN DOES SERVICE BEGIN?							\n							\nWorship Service begins at 11:00 AM\n					\n\n\n\n	\n									\n					\n																																				\n				\n										\n									WHAT ARE SERVICES LIKE?							\n							\nOur Worship Service is about an hour and 30 minutes and has a time of powerful praise and worship\, Bible-based preaching\, fellowship and giving.\n					\n\n\n\n	\n									\n					\n																																				\n				\n										\n									WHAT ABOUT MY KIDS?							\n							\nWe love kids at Tabernacle and offer age-appropriate environments where your kids and teenagers will learn about Jesus and the Bible on their level. We have excellent\, well-trained children and youth workers who have passed all the necessary background requirements.\n					\n\n\n\n\n	\n									\n					\n																																				\n				\n										\n									HOW DOES THE MUSIC SOUND?							\n							\nOur vibrant worship team blends gospel\, hymns\, and contemporary styles\, inspiring heartfelt worship and guiding our church closer to God.\n					\n\n\n\n	\n									\n					\n																																				\n				\n										\n									WHAT SHOULD I WEAR?							\n							\nWhile many choose to dress up\, we embrace a “come as you are” approach\, ensuring comfort in any attire.\n					\n\n\n\n	\n									\n					\n																																				\n				\n										\n									WHO WILL HELP ME?							\n							\nVisiting a new church can feel daunting\, but our welcoming team will ensure your family feels guided\, supported\, and comfortable.\n					\n\n\n\n	\n									\n					\n																																				\n				\n										\n									WHAT ELSE CAN I EXPECT?							\n							\nWe serve breakfast every third Saturday at 9:00 AM\, and lunch every second and fourth Saturday following our Worship Service.
URL:https://tabsda.org/event/sabbath-worship-service-3/2026-11-07/
LOCATION:Tab SDA\, 8017 NE 2nd Avenue\, Miami\, 33138\, United States
CATEGORIES:Church Fellowship,Family,Spiritual Growth
ATTACH;FMTTYPE=image/png:https://tabsda.org/wp-content/uploads/2025/06/Stream-Thumbnail.png
END:VEVENT
BEGIN:VEVENT
DTSTART;TZID=America/New_York:20261108T103000
DTEND;TZID=America/New_York:20261108T133000
DTSTAMP:20260419T212432
CREATED:20250612T194739Z
LAST-MODIFIED:20250612T194739Z
UID:10002668-1794133800-1794144600@tabsda.org
SUMMARY:Senior's Ministry Meeting
DESCRIPTION:Join us for our monthly Senior’s Ministry Meeting—a time for fellowship\, encouragement\, and connection. Each month we gather to enjoy light refreshments\, uplifting devotionals\, and meaningful conversations with friends. Whether you’ve been part of the ministry for years or are joining for the first time\, you’ll feel welcomed and valued. Come grow spiritually\, build relationships\, and share in the joy of community. No registration required. Bring a friend!
URL:https://tabsda.org/event/seniors-ministry-meeting/2026-11-08/
LOCATION:Tab SDA\, 8017 NE 2nd Avenue\, Miami\, 33138\, United States
ATTACH;FMTTYPE=image/jpeg:https://tabsda.org/wp-content/uploads/2025/06/Picture1-1.jpg
END:VEVENT
BEGIN:VEVENT
DTSTART;TZID=America/New_York:20261114T110000
DTEND;TZID=America/New_York:20261114T123000
DTSTAMP:20260419T212432
CREATED:20250608T173342Z
LAST-MODIFIED:20250608T173342Z
UID:10000964-1794654000-1794659400@tabsda.org
SUMMARY:Tab Town Children's Church
DESCRIPTION:Open to all children ages 2-12\, Tab Town Children’s Church is a vibrant and engaging space where kids deepen their understanding of Jesus while building lasting friendships. Through interactive lessons\, exciting activities\, and creative experiences\, children grow in faith and community in a fun\, nurturing and safe environment.
URL:https://tabsda.org/event/tab-town-childrens-church-2/2026-11-14/
LOCATION:Tab SDA\, 8017 NE 2nd Avenue\, Miami\, 33138\, United States
ATTACH;FMTTYPE=image/jpeg:https://tabsda.org/wp-content/uploads/2025/01/20170513_120654_HDR.jpg
END:VEVENT
BEGIN:VEVENT
DTSTART;TZID=America/New_York:20261128T110000
DTEND;TZID=America/New_York:20261128T150000
DTSTAMP:20260419T212432
CREATED:20250606T213502Z
LAST-MODIFIED:20260126T034715Z
UID:10002612-1795863600-1795878000@tabsda.org
SUMMARY:Thanksgiving Sabbath & Potluck
DESCRIPTION:Join us for a special Thanksgiving Sabbath as we come together in gratitude and worship. During the Sabbath Worship Service\, we’ll reflect on God’s goodness through music\, testimony\, and the Word. After service\, stay for a fellowship lunch as we continue the spirit of thanksgiving around the table. All are welcome to share in this day of praise and community!
URL:https://tabsda.org/event/thanksgiving-sabbath-potluck/
LOCATION:Tab SDA\, 8017 NE 2nd Avenue\, Miami\, 33138\, United States
CATEGORIES:Church Fellowship,Family,Spiritual Growth
ATTACH;FMTTYPE=image/jpeg:https://tabsda.org/wp-content/uploads/2025/01/20200111_141040_HDR.jpg
END:VEVENT
BEGIN:VEVENT
DTSTART;TZID=America/New_York:20261231T180000
DTEND;TZID=America/New_York:20261231T220000
DTSTAMP:20260419T212432
CREATED:20250606T214659Z
LAST-MODIFIED:20260126T034819Z
UID:10002616-1798740000-1798754400@tabsda.org
SUMMARY:2027 New Years' Celebration Service
DESCRIPTION:Ring in the new year with praise\, reflection\, and renewed hope at our 2027 New Year’s Celebration Service! Join us for an evening of praise and worship\, a heartfelt testimony hour\, and a brief word of encouragement from Pastor Dottin as we thank God for His faithfulness and step into the new year with purpose and faith. \nFollowing the service\, join us in the Heath Hall for a warm serving of Soup Joumou\, as we continue the celebration in community and tradition.
URL:https://tabsda.org/event/new-years-celebration-service/
LOCATION:Tab SDA\, 8017 NE 2nd Avenue\, Miami\, 33138\, United States
CATEGORIES:Church Fellowship,Family,Spiritual Growth
ATTACH;FMTTYPE=image/png:https://tabsda.org/wp-content/uploads/2025/06/New-Project-3.png
END:VEVENT
END:VCALENDAR