BEGIN:VCALENDAR
VERSION:2.0
PRODID:-//Tabernacle Seventh-day Adventist Church - ECPv6.15.20//NONSGML v1.0//EN
CALSCALE:GREGORIAN
METHOD:PUBLISH
X-ORIGINAL-URL:https://tabsda.org
X-WR-CALDESC:Events for Tabernacle Seventh-day Adventist Church
REFRESH-INTERVAL;VALUE=DURATION:PT1H
X-Robots-Tag:noindex
X-PUBLISHED-TTL:PT1H
BEGIN:VTIMEZONE
TZID:America/New_York
BEGIN:DAYLIGHT
TZOFFSETFROM:-0500
TZOFFSETTO:-0400
TZNAME:EDT
DTSTART:20250309T070000
END:DAYLIGHT
BEGIN:STANDARD
TZOFFSETFROM:-0400
TZOFFSETTO:-0500
TZNAME:EST
DTSTART:20251102T060000
END:STANDARD
BEGIN:DAYLIGHT
TZOFFSETFROM:-0500
TZOFFSETTO:-0400
TZNAME:EDT
DTSTART:20260308T070000
END:DAYLIGHT
BEGIN:STANDARD
TZOFFSETFROM:-0400
TZOFFSETTO:-0500
TZNAME:EST
DTSTART:20261101T060000
END:STANDARD
BEGIN:DAYLIGHT
TZOFFSETFROM:-0500
TZOFFSETTO:-0400
TZNAME:EDT
DTSTART:20270314T070000
END:DAYLIGHT
BEGIN:STANDARD
TZOFFSETFROM:-0400
TZOFFSETTO:-0500
TZNAME:EST
DTSTART:20271107T060000
END:STANDARD
END:VTIMEZONE
BEGIN:VEVENT
DTSTART;TZID=America/New_York:20260424T190000
DTEND;TZID=America/New_York:20260424T213000
DTSTAMP:20260419T133608
CREATED:20250406T031209Z
LAST-MODIFIED:20260331T004901Z
UID:10003361-1777057200-1777066200@tabsda.org
SUMMARY:Pure Reality Treasure Key Weekend
DESCRIPTION:Join us for Treasure Key Weekend on April 24–25\, 2026 at Tabernacle SDA Church in Miami\, FL. This is not just a weekend event—it’s a celebration of 21 years of Pure Reality’s impact and faith in action.\nWe’re calling all past attendees\, mentors\, chaperones\, staff\, and speakers to return for a powerful reunion. \nEvent Schedule:\n• Friday\, April 24 – 7:00 PM: Agape Feast\n• Saturday\, April 25 – 11:00 AM: Sabbath Worship Service (Speaker: Pastor Taurus Montgomery)\n• Saturday\, April 25 – 6:00 PM: Treasure Key Ceremony\n(Online registration required. Participants must arrive by 5:00 PM. See dress code.) \nThe Treasure Key Ceremony is a personal and spiritual promise to live a life of purity and purpose. If you cannot attend in person\, the ceremony will be streamed at youtube.com/purereality. \nLocation:\nTabernacle SDA Church\n8017 NE 2nd Avenue\, Miami\, FL 33138 \nRegister now. Reconnect. Recommit.
URL:https://tabsda.org/event/pure-reality-treasure-key-weekend/2026-04-24/
LOCATION:Tab SDA\, 8017 NE 2nd Avenue\, Miami\, 33138\, United States
CATEGORIES:Spiritual Growth,Young Adult,Youth
ATTACH;FMTTYPE=image/jpeg:https://tabsda.org/wp-content/uploads/2025/04/20250426_224123808_iOS-scaled-e1774918094293.jpg
ORGANIZER;CN="Albert C. Pierre Community Service Center":MAILTO:info@acpcommunityservice.org
END:VEVENT
BEGIN:VEVENT
DTSTART;TZID=America/New_York:20260425T110000
DTEND;TZID=America/New_York:20260425T133000
DTSTAMP:20260419T133608
CREATED:20250406T031209Z
LAST-MODIFIED:20260331T004901Z
UID:10003362-1777114800-1777123800@tabsda.org
SUMMARY:Pure Reality Treasure Key Weekend
DESCRIPTION:Join us for Treasure Key Weekend on April 24–25\, 2026 at Tabernacle SDA Church in Miami\, FL. This is not just a weekend event—it’s a celebration of 21 years of Pure Reality’s impact and faith in action.\nWe’re calling all past attendees\, mentors\, chaperones\, staff\, and speakers to return for a powerful reunion. \nEvent Schedule:\n• Friday\, April 24 – 7:00 PM: Agape Feast\n• Saturday\, April 25 – 11:00 AM: Sabbath Worship Service (Speaker: Pastor Taurus Montgomery)\n• Saturday\, April 25 – 6:00 PM: Treasure Key Ceremony\n(Online registration required. Participants must arrive by 5:00 PM. See dress code.) \nThe Treasure Key Ceremony is a personal and spiritual promise to live a life of purity and purpose. If you cannot attend in person\, the ceremony will be streamed at youtube.com/purereality. \nLocation:\nTabernacle SDA Church\n8017 NE 2nd Avenue\, Miami\, FL 33138 \nRegister now. Reconnect. Recommit.
URL:https://tabsda.org/event/pure-reality-treasure-key-weekend/2026-04-25/1/
LOCATION:Tab SDA\, 8017 NE 2nd Avenue\, Miami\, 33138\, United States
CATEGORIES:Spiritual Growth,Young Adult,Youth
ATTACH;FMTTYPE=image/jpeg:https://tabsda.org/wp-content/uploads/2025/04/20250426_224123808_iOS-scaled-e1774918094293.jpg
ORGANIZER;CN="Albert C. Pierre Community Service Center":MAILTO:info@acpcommunityservice.org
END:VEVENT
BEGIN:VEVENT
DTSTART;TZID=America/New_York:20260425T180000
DTEND;TZID=America/New_York:20260425T194500
DTSTAMP:20260419T133608
CREATED:20250406T031209Z
LAST-MODIFIED:20260331T004901Z
UID:10003363-1777140000-1777146300@tabsda.org
SUMMARY:Pure Reality Treasure Key Weekend
DESCRIPTION:Join us for Treasure Key Weekend on April 24–25\, 2026 at Tabernacle SDA Church in Miami\, FL. This is not just a weekend event—it’s a celebration of 21 years of Pure Reality’s impact and faith in action.\nWe’re calling all past attendees\, mentors\, chaperones\, staff\, and speakers to return for a powerful reunion. \nEvent Schedule:\n• Friday\, April 24 – 7:00 PM: Agape Feast\n• Saturday\, April 25 – 11:00 AM: Sabbath Worship Service (Speaker: Pastor Taurus Montgomery)\n• Saturday\, April 25 – 6:00 PM: Treasure Key Ceremony\n(Online registration required. Participants must arrive by 5:00 PM. See dress code.) \nThe Treasure Key Ceremony is a personal and spiritual promise to live a life of purity and purpose. If you cannot attend in person\, the ceremony will be streamed at youtube.com/purereality. \nLocation:\nTabernacle SDA Church\n8017 NE 2nd Avenue\, Miami\, FL 33138 \nRegister now. Reconnect. Recommit.
URL:https://tabsda.org/event/pure-reality-treasure-key-weekend/2026-04-25/2/
LOCATION:Tab SDA\, 8017 NE 2nd Avenue\, Miami\, 33138\, United States
CATEGORIES:Spiritual Growth,Young Adult,Youth
ATTACH;FMTTYPE=image/jpeg:https://tabsda.org/wp-content/uploads/2025/04/20250426_224123808_iOS-scaled-e1774918094293.jpg
ORGANIZER;CN="Albert C. Pierre Community Service Center":MAILTO:info@acpcommunityservice.org
END:VEVENT
END:VCALENDAR