BEGIN:VCALENDAR
VERSION:2.0
PRODID:-//Tabernacle Seventh-day Adventist Church - ECPv6.15.20//NONSGML v1.0//EN
CALSCALE:GREGORIAN
METHOD:PUBLISH
X-ORIGINAL-URL:https://tabsda.org
X-WR-CALDESC:Events for Tabernacle Seventh-day Adventist Church
REFRESH-INTERVAL;VALUE=DURATION:PT1H
X-Robots-Tag:noindex
X-PUBLISHED-TTL:PT1H
BEGIN:VTIMEZONE
TZID:America/New_York
BEGIN:DAYLIGHT
TZOFFSETFROM:-0500
TZOFFSETTO:-0400
TZNAME:EDT
DTSTART:20250309T070000
END:DAYLIGHT
BEGIN:STANDARD
TZOFFSETFROM:-0400
TZOFFSETTO:-0500
TZNAME:EST
DTSTART:20251102T060000
END:STANDARD
BEGIN:DAYLIGHT
TZOFFSETFROM:-0500
TZOFFSETTO:-0400
TZNAME:EDT
DTSTART:20260308T070000
END:DAYLIGHT
BEGIN:STANDARD
TZOFFSETFROM:-0400
TZOFFSETTO:-0500
TZNAME:EST
DTSTART:20261101T060000
END:STANDARD
BEGIN:DAYLIGHT
TZOFFSETFROM:-0500
TZOFFSETTO:-0400
TZNAME:EDT
DTSTART:20270314T070000
END:DAYLIGHT
BEGIN:STANDARD
TZOFFSETFROM:-0400
TZOFFSETTO:-0500
TZNAME:EST
DTSTART:20271107T060000
END:STANDARD
END:VTIMEZONE
BEGIN:VEVENT
DTSTART;VALUE=DATE:20260327
DTEND;VALUE=DATE:20260330
DTSTAMP:20260419T120422
CREATED:20250117T214634Z
LAST-MODIFIED:20260116T195511Z
UID:10000001-1774569600-1774828799@tabsda.org
SUMMARY:Pure Reality Retreat 2026
DESCRIPTION:The Pure Reality Retreat is a life-changing weekend designed for youth and young adults ages 12–25 to grow in faith\, purpose\, and commitment to Christian purity. Through powerful worship\, practical teaching\, and meaningful fellowship\, participants are equipped to make Christ-centered choices and build strong\, God-honoring relationships. \nThis year’s retreat will feature Keynote Speaker Pastor Taurus Montgomery\, whose dynamic ministry challenges young people to live boldly for Christ and embrace their God-given identity. \nWhat to Expect \n\n\nInspiring messages and spiritual reflections \n\n\nSmall group discussions with caring mentors \n\n\nWorship\, testimonies\, and creative presentations \n\n\nPractical sessions on relationships\, identity\, and discipleship \n\n\nFun activities and opportunities to build lasting friendships \n\n\nWho Should AttendYouth and young adults who desire to deepen their walk with God\, gain biblical guidance for real-life decisions\, and connect with other believers in a positive\, Christ-centered environment. \nRegistration InformationThe retreat fee includes lodging\, meals\, materials\, and all activities. Additional details regarding cost\, deadlines\, and transportation will be provided by local church leadership. \nPrepare for a weekend of renewal\, inspiration\, and transformation—come experience Pure Reality.
URL:https://tabsda.org/event/pure-reality-retreat/
LOCATION:Camp Kulaqua\, 23400 NW 212 Ave\, High Springs\, FL\, 32643\, United States
CATEGORIES:Young Adult,Youth
ATTACH;FMTTYPE=image/jpeg:https://tabsda.org/wp-content/uploads/2025/01/youth.jpg
ORGANIZER;CN="Pure Reality":MAILTO:info@purereality.org
END:VEVENT
END:VCALENDAR