BEGIN:VCALENDAR
VERSION:2.0
PRODID:-//Tabernacle Seventh-day Adventist Church - ECPv6.15.20//NONSGML v1.0//EN
CALSCALE:GREGORIAN
METHOD:PUBLISH
X-WR-CALNAME:Tabernacle Seventh-day Adventist Church
X-ORIGINAL-URL:https://tabsda.org
X-WR-CALDESC:Events for Tabernacle Seventh-day Adventist Church
REFRESH-INTERVAL;VALUE=DURATION:PT1H
X-Robots-Tag:noindex
X-PUBLISHED-TTL:PT1H
BEGIN:VTIMEZONE
TZID:America/New_York
BEGIN:DAYLIGHT
TZOFFSETFROM:-0500
TZOFFSETTO:-0400
TZNAME:EDT
DTSTART:20240310T070000
END:DAYLIGHT
BEGIN:STANDARD
TZOFFSETFROM:-0400
TZOFFSETTO:-0500
TZNAME:EST
DTSTART:20241103T060000
END:STANDARD
BEGIN:DAYLIGHT
TZOFFSETFROM:-0500
TZOFFSETTO:-0400
TZNAME:EDT
DTSTART:20250309T070000
END:DAYLIGHT
BEGIN:STANDARD
TZOFFSETFROM:-0400
TZOFFSETTO:-0500
TZNAME:EST
DTSTART:20251102T060000
END:STANDARD
BEGIN:DAYLIGHT
TZOFFSETFROM:-0500
TZOFFSETTO:-0400
TZNAME:EDT
DTSTART:20260308T070000
END:DAYLIGHT
BEGIN:STANDARD
TZOFFSETFROM:-0400
TZOFFSETTO:-0500
TZNAME:EST
DTSTART:20261101T060000
END:STANDARD
END:VTIMEZONE
BEGIN:VEVENT
DTSTART;TZID=America/New_York:20251226T190000
DTEND;TZID=America/New_York:20251226T210000
DTSTAMP:20260419T230101
CREATED:20251225T053856Z
LAST-MODIFIED:20251225T053857Z
UID:10003334-1766775600-1766782800@tabsda.org
SUMMARY:Campus Ministries Worship Night
DESCRIPTION:Campus Ministries invites you to a Worship Night at Tabernacle on Friday\, December 26\, at 7:00 PM. Under the theme\, “Blessed and Highly Favored\,” the evening will be filled with heartfelt praise\, worship\, prayer\, and an encouraging word. \nAll ages are welcome\, so come ready to be uplifted\, and feel free to bring a friend or two to share in the experience.
URL:https://tabsda.org/event/campus-ministries-worship-night/
LOCATION:Tab SDA\, 8017 NE 2nd Avenue\, Miami\, 33138\, United States
CATEGORIES:Spiritual Growth,Young Adult,Youth
ATTACH;FMTTYPE=image/jpeg:https://tabsda.org/wp-content/uploads/2019/02/P1570159.jpg
ORGANIZER;CN="Young Adult Life":MAILTO:Tym@tabsda.org
END:VEVENT
END:VCALENDAR