BEGIN:VCALENDAR
VERSION:2.0
PRODID:-//Tabernacle Seventh-day Adventist Church - ECPv6.15.20//NONSGML v1.0//EN
CALSCALE:GREGORIAN
METHOD:PUBLISH
X-ORIGINAL-URL:https://tabsda.org
X-WR-CALDESC:Events for Tabernacle Seventh-day Adventist Church
REFRESH-INTERVAL;VALUE=DURATION:PT1H
X-Robots-Tag:noindex
X-PUBLISHED-TTL:PT1H
BEGIN:VTIMEZONE
TZID:America/New_York
BEGIN:DAYLIGHT
TZOFFSETFROM:-0500
TZOFFSETTO:-0400
TZNAME:EDT
DTSTART:20250309T070000
END:DAYLIGHT
BEGIN:STANDARD
TZOFFSETFROM:-0400
TZOFFSETTO:-0500
TZNAME:EST
DTSTART:20251102T060000
END:STANDARD
BEGIN:DAYLIGHT
TZOFFSETFROM:-0500
TZOFFSETTO:-0400
TZNAME:EDT
DTSTART:20260308T070000
END:DAYLIGHT
BEGIN:STANDARD
TZOFFSETFROM:-0400
TZOFFSETTO:-0500
TZNAME:EST
DTSTART:20261101T060000
END:STANDARD
BEGIN:DAYLIGHT
TZOFFSETFROM:-0500
TZOFFSETTO:-0400
TZNAME:EDT
DTSTART:20270314T070000
END:DAYLIGHT
BEGIN:STANDARD
TZOFFSETFROM:-0400
TZOFFSETTO:-0500
TZNAME:EST
DTSTART:20271107T060000
END:STANDARD
END:VTIMEZONE
BEGIN:VEVENT
DTSTART;TZID=America/New_York:20261004T100000
DTEND;TZID=America/New_York:20261004T124500
DTSTAMP:20260419T194402
CREATED:20260126T033835Z
LAST-MODIFIED:20260126T033835Z
UID:10003763-1791108000-1791117900@tabsda.org
SUMMARY:Women's Ministry Brunch & Spa
DESCRIPTION:Join us for a relaxing and uplifting experience designed to encourage rest\, renewal\, and sisterhood. This special gathering creates space for women to step away from the busyness of daily life and enjoy meaningful connection in a peaceful\, welcoming atmosphere. \nGuests will enjoy a delicious brunch\, light spa experiences\, and moments of encouragement that promote self-care\, wellness\, and spiritual refreshment. Join us for a beautiful time of fellowship\, laughter\, and restoration as we celebrate the importance of caring for both body and soul.
URL:https://tabsda.org/event/womens-ministry-brunch-spa/
LOCATION:Tab SDA\, 8017 NE 2nd Avenue\, Miami\, 33138\, United States
CATEGORIES:Women
ATTACH;FMTTYPE=image/jpeg:https://tabsda.org/wp-content/uploads/2019/10/P1600867.jpg
END:VEVENT
END:VCALENDAR