BEGIN:VCALENDAR
VERSION:2.0
PRODID:-//Tabernacle Seventh-day Adventist Church - ECPv6.15.20//NONSGML v1.0//EN
CALSCALE:GREGORIAN
METHOD:PUBLISH
X-WR-CALNAME:Tabernacle Seventh-day Adventist Church
X-ORIGINAL-URL:https://tabsda.org
X-WR-CALDESC:Events for Tabernacle Seventh-day Adventist Church
REFRESH-INTERVAL;VALUE=DURATION:PT1H
X-Robots-Tag:noindex
X-PUBLISHED-TTL:PT1H
BEGIN:VTIMEZONE
TZID:America/New_York
BEGIN:DAYLIGHT
TZOFFSETFROM:-0500
TZOFFSETTO:-0400
TZNAME:EDT
DTSTART:20250309T070000
END:DAYLIGHT
BEGIN:STANDARD
TZOFFSETFROM:-0400
TZOFFSETTO:-0500
TZNAME:EST
DTSTART:20251102T060000
END:STANDARD
BEGIN:DAYLIGHT
TZOFFSETFROM:-0500
TZOFFSETTO:-0400
TZNAME:EDT
DTSTART:20260308T070000
END:DAYLIGHT
BEGIN:STANDARD
TZOFFSETFROM:-0400
TZOFFSETTO:-0500
TZNAME:EST
DTSTART:20261101T060000
END:STANDARD
BEGIN:DAYLIGHT
TZOFFSETFROM:-0500
TZOFFSETTO:-0400
TZNAME:EDT
DTSTART:20270314T070000
END:DAYLIGHT
BEGIN:STANDARD
TZOFFSETFROM:-0400
TZOFFSETTO:-0500
TZNAME:EST
DTSTART:20271107T060000
END:STANDARD
END:VTIMEZONE
BEGIN:VEVENT
DTSTART;TZID=America/New_York:20260615T193000
DTEND;TZID=America/New_York:20260620T210000
DTSTAMP:20260419T142913
CREATED:20250606T200707Z
LAST-MODIFIED:20260126T032743Z
UID:10002597-1781551800-1781989200@tabsda.org
SUMMARY:Southeastern Conference Camp Meeting
DESCRIPTION:The Southeastern Conference Camp Meeting is a powerful time of spiritual renewal\, worship\, and fellowship for members and families across the region. This annual gathering brings together believers of all ages for inspiring worship services\, dynamic preaching\, uplifting music\, and meaningful Bible-based teaching.\n\n\n\n\n\n\n\n\n\n\n\n\n\n\nAttendees can expect engaging programming for adults\, youth\, and children\, along with opportunities for prayer\, connection\, and personal growth. Whether attending in person or participating through scheduled services and events\, the Southeastern Conference Camp Meeting offers a space to be encouraged\, refreshed\, and strengthened in faith while experiencing the joy of Christian community.
URL:https://tabsda.org/event/southeastern-conference-camp-meeting/
LOCATION:Camp Hawthorne\, 1771 Florida 20\, Hawthorne\, FL\, 32640\, United States
CATEGORIES:Spiritual Growth
ATTACH;FMTTYPE=image/jpeg:https://tabsda.org/wp-content/uploads/2025/06/sec-F1a-july22_2109062.jpg
ORGANIZER;CN="Southeastern Conference":MAILTO:communication@secsda.org
END:VEVENT
BEGIN:VEVENT
DTSTART;TZID=America/New_York:20260620T170000
DTEND;TZID=America/New_York:20260620T204500
DTSTAMP:20260419T142913
CREATED:20250603T035316Z
LAST-MODIFIED:20260126T032424Z
UID:10002595-1781974800-1781988300@tabsda.org
SUMMARY:Father's Day Dinner & Game Night
DESCRIPTION:Women’s Ministry invites you to a special Father’s Day Dinner & Game Night on June 20 at 5:30 PM. This evening is dedicated to celebrating and honoring fathers\, father figures\, and the important role they play in our families and community.\n\n\n\n\n\n\n\n\n\n\n\n\n\n\nJoin us for a warm night of great food\, fun games\, and fellowship as we come together to show appreciation\, create lasting memories\, and enjoy quality time in a relaxed\, family-friendly atmosphere. All are welcome to attend and celebrate the men who make a difference every day.
URL:https://tabsda.org/event/fathers-day-dinner-game-night/
LOCATION:Tab SDA\, 8017 NE 2nd Avenue\, Miami\, 33138\, United States
CATEGORIES:Church Fellowship,Family,Men
ATTACH;FMTTYPE=image/jpeg:https://tabsda.org/wp-content/uploads/2025/06/20220618_204233-scaled.jpg
END:VEVENT
END:VCALENDAR