BEGIN:VCALENDAR
VERSION:2.0
PRODID:-//Tabernacle Seventh-day Adventist Church - ECPv6.15.20//NONSGML v1.0//EN
CALSCALE:GREGORIAN
METHOD:PUBLISH
X-ORIGINAL-URL:https://tabsda.org
X-WR-CALDESC:Events for Tabernacle Seventh-day Adventist Church
REFRESH-INTERVAL;VALUE=DURATION:PT1H
X-Robots-Tag:noindex
X-PUBLISHED-TTL:PT1H
BEGIN:VTIMEZONE
TZID:America/New_York
BEGIN:DAYLIGHT
TZOFFSETFROM:-0500
TZOFFSETTO:-0400
TZNAME:EDT
DTSTART:20250309T070000
END:DAYLIGHT
BEGIN:STANDARD
TZOFFSETFROM:-0400
TZOFFSETTO:-0500
TZNAME:EST
DTSTART:20251102T060000
END:STANDARD
BEGIN:DAYLIGHT
TZOFFSETFROM:-0500
TZOFFSETTO:-0400
TZNAME:EDT
DTSTART:20260308T070000
END:DAYLIGHT
BEGIN:STANDARD
TZOFFSETFROM:-0400
TZOFFSETTO:-0500
TZNAME:EST
DTSTART:20261101T060000
END:STANDARD
BEGIN:DAYLIGHT
TZOFFSETFROM:-0500
TZOFFSETTO:-0400
TZNAME:EDT
DTSTART:20270314T070000
END:DAYLIGHT
BEGIN:STANDARD
TZOFFSETFROM:-0400
TZOFFSETTO:-0500
TZNAME:EST
DTSTART:20271107T060000
END:STANDARD
END:VTIMEZONE
BEGIN:VEVENT
DTSTART;TZID=America/New_York:20260517T103000
DTEND;TZID=America/New_York:20260517T143000
DTSTAMP:20260419T141505
CREATED:20250906T023111Z
LAST-MODIFIED:20260126T031315Z
UID:10003263-1779013800-1779028200@tabsda.org
SUMMARY:Women’s Ministry Brunch & Bazaar
DESCRIPTION:Women’s Ministry is hosting a Potluck Brunch and Bazaar on Sunday\, May 17\, 2026 at 10:30 a.m. Men are also invited. Join us and bring a friend who will get a special gift. You can sign up at the front desk for your potluck contribution. \nWe will also have a bazaar where you bring things that you no longer need but are in pristine condition\, such as clothing\, shoes and small household items\, that will be sold for minimal prices to raise funds for Women’s Ministry and Tabernacle. Please see Lauldi Nedd\, Charlene Moulton or Judith McCalla for further details. Bring your items and some cash because one person’s trash is another person’s treasure!
URL:https://tabsda.org/event/womens-ministry-brunch-bazaar/
LOCATION:Tab SDA\, 8017 NE 2nd Avenue\, Miami\, 33138\, United States
CATEGORIES:Church Fellowship,Women
ATTACH;FMTTYPE=image/jpeg:https://tabsda.org/wp-content/uploads/2025/09/20191006_111739-scaled.jpg
END:VEVENT
END:VCALENDAR