BEGIN:VCALENDAR
VERSION:2.0
PRODID:-//Tabernacle Seventh-day Adventist Church - ECPv6.15.20//NONSGML v1.0//EN
CALSCALE:GREGORIAN
METHOD:PUBLISH
X-WR-CALNAME:Tabernacle Seventh-day Adventist Church
X-ORIGINAL-URL:https://tabsda.org
X-WR-CALDESC:Events for Tabernacle Seventh-day Adventist Church
REFRESH-INTERVAL;VALUE=DURATION:PT1H
X-Robots-Tag:noindex
X-PUBLISHED-TTL:PT1H
BEGIN:VTIMEZONE
TZID:America/New_York
BEGIN:DAYLIGHT
TZOFFSETFROM:-0500
TZOFFSETTO:-0400
TZNAME:EDT
DTSTART:20250309T070000
END:DAYLIGHT
BEGIN:STANDARD
TZOFFSETFROM:-0400
TZOFFSETTO:-0500
TZNAME:EST
DTSTART:20251102T060000
END:STANDARD
BEGIN:DAYLIGHT
TZOFFSETFROM:-0500
TZOFFSETTO:-0400
TZNAME:EDT
DTSTART:20260308T070000
END:DAYLIGHT
BEGIN:STANDARD
TZOFFSETFROM:-0400
TZOFFSETTO:-0500
TZNAME:EST
DTSTART:20261101T060000
END:STANDARD
BEGIN:DAYLIGHT
TZOFFSETFROM:-0500
TZOFFSETTO:-0400
TZNAME:EDT
DTSTART:20270314T070000
END:DAYLIGHT
BEGIN:STANDARD
TZOFFSETFROM:-0400
TZOFFSETTO:-0500
TZNAME:EST
DTSTART:20271107T060000
END:STANDARD
END:VTIMEZONE
BEGIN:VEVENT
DTSTART;TZID=America/New_York:20260510T103000
DTEND;TZID=America/New_York:20260510T133000
DTSTAMP:20260419T125153
CREATED:20260308T030038Z
LAST-MODIFIED:20260308T030040Z
UID:10002662-1778409000-1778419800@tabsda.org
SUMMARY:Senior's Ministry Meeting
DESCRIPTION:Join us for our monthly Senior’s Ministry Meeting—a time for fellowship\, encouragement\, and connection. Each month we gather to enjoy light refreshments\, uplifting devotionals\, and meaningful conversations with friends. Whether you’ve been part of the ministry for years or are joining for the first time\, you’ll feel welcomed and valued. Come grow spiritually\, build relationships\, and share in the joy of community. No registration required. Bring a friend!
URL:https://tabsda.org/event/seniors-ministry-meeting-4/
LOCATION:Tab SDA\, 8017 NE 2nd Avenue\, Miami\, 33138\, United States
ATTACH;FMTTYPE=image/jpeg:https://tabsda.org/wp-content/uploads/2025/06/Picture1-1.jpg
END:VEVENT
END:VCALENDAR