BEGIN:VCALENDAR
VERSION:2.0
PRODID:-//Tabernacle Seventh-day Adventist Church - ECPv6.15.20//NONSGML v1.0//EN
CALSCALE:GREGORIAN
METHOD:PUBLISH
X-ORIGINAL-URL:https://tabsda.org
X-WR-CALDESC:Events for Tabernacle Seventh-day Adventist Church
REFRESH-INTERVAL;VALUE=DURATION:PT1H
X-Robots-Tag:noindex
X-PUBLISHED-TTL:PT1H
BEGIN:VTIMEZONE
TZID:America/New_York
BEGIN:DAYLIGHT
TZOFFSETFROM:-0500
TZOFFSETTO:-0400
TZNAME:EDT
DTSTART:20250309T070000
END:DAYLIGHT
BEGIN:STANDARD
TZOFFSETFROM:-0400
TZOFFSETTO:-0500
TZNAME:EST
DTSTART:20251102T060000
END:STANDARD
BEGIN:DAYLIGHT
TZOFFSETFROM:-0500
TZOFFSETTO:-0400
TZNAME:EDT
DTSTART:20260308T070000
END:DAYLIGHT
BEGIN:STANDARD
TZOFFSETFROM:-0400
TZOFFSETTO:-0500
TZNAME:EST
DTSTART:20261101T060000
END:STANDARD
BEGIN:DAYLIGHT
TZOFFSETFROM:-0500
TZOFFSETTO:-0400
TZNAME:EDT
DTSTART:20270314T070000
END:DAYLIGHT
BEGIN:STANDARD
TZOFFSETFROM:-0400
TZOFFSETTO:-0500
TZNAME:EST
DTSTART:20271107T060000
END:STANDARD
END:VTIMEZONE
BEGIN:VEVENT
DTSTART;TZID=America/New_York:20260425T161500
DTEND;TZID=America/New_York:20260425T173000
DTSTAMP:20260419T110935
CREATED:20250725T170853Z
LAST-MODIFIED:20260209T035559Z
UID:10003917-1777133700-1777138200@tabsda.org
SUMMARY:Weekly Bible Study
DESCRIPTION:Hungry for a deeper understanding of God’s Word? Join us for a meaningful Bible study every Sabbath afternoon at 3:00 PM. We meet virtually via RingCentral each week\, and in person in the Youth Chapel only on Sabbaths when lunch is provided. This is a great opportunity to explore Scripture more deeply and grow in your faith. Tap the “Join” button on this site to attend virtually. \nNote: If you don’t have the RingCentral app\, you may need to download it first.
URL:https://tabsda.org/event/bible-study/2026-04-25/
LOCATION:Tab SDA\, 8017 NE 2nd Avenue\, Miami\, 33138\, United States
CATEGORIES:Spiritual Growth
ATTACH;FMTTYPE=image/png:https://tabsda.org/wp-content/uploads/2025/07/New-Project.png
END:VEVENT
END:VCALENDAR