BEGIN:VCALENDAR
VERSION:2.0
PRODID:-//Tabernacle Seventh-day Adventist Church - ECPv6.15.20//NONSGML v1.0//EN
CALSCALE:GREGORIAN
METHOD:PUBLISH
X-ORIGINAL-URL:https://tabsda.org
X-WR-CALDESC:Events for Tabernacle Seventh-day Adventist Church
REFRESH-INTERVAL;VALUE=DURATION:PT1H
X-Robots-Tag:noindex
X-PUBLISHED-TTL:PT1H
BEGIN:VTIMEZONE
TZID:America/New_York
BEGIN:DAYLIGHT
TZOFFSETFROM:-0500
TZOFFSETTO:-0400
TZNAME:EDT
DTSTART:20250309T070000
END:DAYLIGHT
BEGIN:STANDARD
TZOFFSETFROM:-0400
TZOFFSETTO:-0500
TZNAME:EST
DTSTART:20251102T060000
END:STANDARD
BEGIN:DAYLIGHT
TZOFFSETFROM:-0500
TZOFFSETTO:-0400
TZNAME:EDT
DTSTART:20260308T070000
END:DAYLIGHT
BEGIN:STANDARD
TZOFFSETFROM:-0400
TZOFFSETTO:-0500
TZNAME:EST
DTSTART:20261101T060000
END:STANDARD
BEGIN:DAYLIGHT
TZOFFSETFROM:-0500
TZOFFSETTO:-0400
TZNAME:EDT
DTSTART:20270314T070000
END:DAYLIGHT
BEGIN:STANDARD
TZOFFSETFROM:-0400
TZOFFSETTO:-0500
TZNAME:EST
DTSTART:20271107T060000
END:STANDARD
END:VTIMEZONE
BEGIN:VEVENT
DTSTART;TZID=America/New_York:20260422T193000
DTEND;TZID=America/New_York:20260422T210000
DTSTAMP:20260419T111012
CREATED:20260116T183258Z
LAST-MODIFIED:20260116T183300Z
UID:10003032-1776886200-1776891600@tabsda.org
SUMMARY:Midweek Prayer Meeting
DESCRIPTION:Recharge your spirit every Wednesday evening with an hour of Praise\, Prayer\, and Powerful Testimonies.\nJoin us online for a midweek blessing—streaming live on our YouTube and Facebook pages. \nPrefer to connect directly?\nJoin the video conference using the Join button on this page\, or dial in by phone:\nConference Call: 470-869-2200\nMeeting ID: 148 833 8319#
URL:https://tabsda.org/event/midweek-prayer-meeting-2/2026-04-22/
LOCATION:Online Only
CATEGORIES:Spiritual Growth
ATTACH;FMTTYPE=image/png:https://tabsda.org/wp-content/uploads/2025/07/New-Project-1.png
END:VEVENT
END:VCALENDAR